BEGIN:VCALENDAR
VERSION:2.0
METHOD:PUBLISH
BEGIN:VEVENT
DTSTART:20231210T150000Z
DTEND:20231210T193000Z
LOCATION:Barcombe Village Hall, Barcombe Mills Road, Barcombe, BN8 5BH
TRANSP: OPAQUE
SEQUENCE:0
UID:
DTSTAMP:20260422T134849Z
SUMMARY:South Coast Trombone Choir Presents "A Very Slidey Christmas"
DESCRIPTION:Imported from British Trombone Society
PRIORITY:1
CLASS:PUBLIC
BEGIN:VALARM
TRIGGER:-PT10080M
ACTION:DISPLAY
DESCRIPTION:Reminder
END:VALARM
END:VEVENT
END:VCALENDAR
